BEGIN:VCALENDAR
PRODID:-//Hannon Hill Events//Cascade CMS//EN
VERSION:2.0
X-WR-CALNAME:ETSU Campus Visit
X-WR-TIMEZONE:America/New_York
BEGIN:VTIMEZONE
TZID:America/New_York
BEGIN:DAYLIGHT
TZOFFSETFROM:-0500
TZOFFSETTO:-0400
TZNAME:EDT
DTSTART:19700308T020000
RRULE:FREQ=YEARLY;BYMONTH=3;BYDAY=2SU
END:DAYLIGHT
BEGIN:STANDARD
TZOFFSETFROM:-0400
TZOFFSETTO:-0500
TZNAME:EST
DTSTART:19701101T020000
RRULE:FREQ=YEARLY;BYMONTH=11;BYDAY=1SU
END:STANDARD
END:VTIMEZONE
BEGIN:VEVENT
DTSTART:20250129T100000
DTEND:20250129T130000
DTSTAMP:20260227T084317
UID:9a17e10dac1101dc60815ad457b592fb
CREATED:20250124T155403
DESCRIPTION:
LAST-MODIFIED:20250124T155403
SEQUENCE:0
STATUS:CONFIRMED
SUMMARY:ETSU Campus Visit
TRANSP:OPAQUE
END:VEVENT
END:VCALENDAR
